BEGIN:VCALENDAR
VERSION:2.0
PRODID:-//Pédagogie Nord - ECPv6.15.20//NONSGML v1.0//EN
CALSCALE:GREGORIAN
METHOD:PUBLISH
X-WR-CALNAME:Pédagogie Nord
X-ORIGINAL-URL:https://pedagogie-nord.ac-lille.fr
X-WR-CALDESC:Évènements pour Pédagogie Nord
REFRESH-INTERVAL;VALUE=DURATION:PT1H
X-Robots-Tag:noindex
X-PUBLISHED-TTL:PT1H
BEGIN:VTIMEZONE
TZID:Europe/Paris
BEGIN:DAYLIGHT
TZOFFSETFROM:+0100
TZOFFSETTO:+0200
TZNAME:CEST
DTSTART:20250330T010000
END:DAYLIGHT
BEGIN:STANDARD
TZOFFSETFROM:+0200
TZOFFSETTO:+0100
TZNAME:CET
DTSTART:20251026T010000
END:STANDARD
BEGIN:DAYLIGHT
TZOFFSETFROM:+0100
TZOFFSETTO:+0200
TZNAME:CEST
DTSTART:20260329T010000
END:DAYLIGHT
BEGIN:STANDARD
TZOFFSETFROM:+0200
TZOFFSETTO:+0100
TZNAME:CET
DTSTART:20261025T010000
END:STANDARD
BEGIN:DAYLIGHT
TZOFFSETFROM:+0100
TZOFFSETTO:+0200
TZNAME:CEST
DTSTART:20270328T010000
END:DAYLIGHT
BEGIN:STANDARD
TZOFFSETFROM:+0200
TZOFFSETTO:+0100
TZNAME:CET
DTSTART:20271031T010000
END:STANDARD
END:VTIMEZONE
BEGIN:VEVENT
DTSTART;VALUE=DATE:20260124
DTEND;VALUE=DATE:20260831
DTSTAMP:20260421T050148
CREATED:20260113T163403Z
LAST-MODIFIED:20260113T163456Z
UID:3568-1769212800-1788134399@pedagogie-nord.ac-lille.fr
SUMMARY:Exposition "MUSÉES HORS FRONTIÈRES" - FRAC Grand Large - Dunkerque
DESCRIPTION:Un échange entre Dunkerque (Hauts-de-France) et Krefeld (Rhénanie-du-Nord-Westphalie\, Allemagne) des collections respectives du Kunstmuseen Krefeld et du Frac Grand Large. \nÀ travers l’exposition « MUSÉES HORS FRONTIÈRES »\, le Frac Grand Large met en lumière le rôle précurseur du Kunstmuseen Krefeld\, à la croisée de l’art\, de l’artisanat et du design. En s’affranchissant d’une lecture chronologique\, le parcours s’articule autour de grands ensembles thématiques issus de la collection du musée\, offrant une lecture critique de l’histoire de l’art des XXe et XXIe siècles\, dans ses dimensions esthétiques\, sociales et politiques. \n 
URL:https://pedagogie-nord.ac-lille.fr/evenement/exposition-musees-hors-frontieres-frac-grand-large-dunkerque/
LOCATION:Frac Grand Large – hdf\, 503 Av. des Bancs de Flandres\, Dunkerque
CATEGORIES:Arts visuels
ATTACH;FMTTYPE=image/jpeg:https://pedagogie-nord.ac-lille.fr/wp-content/uploads/2026/01/affiche-krefeld-40x60-1.jpg
END:VEVENT
END:VCALENDAR