BEGIN:VCALENDAR
VERSION:2.0
PRODID:-//Pédagogie Nord - ECPv6.15.20//NONSGML v1.0//EN
CALSCALE:GREGORIAN
METHOD:PUBLISH
X-ORIGINAL-URL:https://pedagogie-nord.ac-lille.fr
X-WR-CALDESC:Évènements pour Pédagogie Nord
REFRESH-INTERVAL;VALUE=DURATION:PT1H
X-Robots-Tag:noindex
X-PUBLISHED-TTL:PT1H
BEGIN:VTIMEZONE
TZID:Europe/Paris
BEGIN:DAYLIGHT
TZOFFSETFROM:+0100
TZOFFSETTO:+0200
TZNAME:CEST
DTSTART:20240331T010000
END:DAYLIGHT
BEGIN:STANDARD
TZOFFSETFROM:+0200
TZOFFSETTO:+0100
TZNAME:CET
DTSTART:20241027T010000
END:STANDARD
BEGIN:DAYLIGHT
TZOFFSETFROM:+0100
TZOFFSETTO:+0200
TZNAME:CEST
DTSTART:20250330T010000
END:DAYLIGHT
BEGIN:STANDARD
TZOFFSETFROM:+0200
TZOFFSETTO:+0100
TZNAME:CET
DTSTART:20251026T010000
END:STANDARD
BEGIN:DAYLIGHT
TZOFFSETFROM:+0100
TZOFFSETTO:+0200
TZNAME:CEST
DTSTART:20260329T010000
END:DAYLIGHT
BEGIN:STANDARD
TZOFFSETFROM:+0200
TZOFFSETTO:+0100
TZNAME:CET
DTSTART:20261025T010000
END:STANDARD
END:VTIMEZONE
BEGIN:VEVENT
DTSTART;VALUE=DATE:20251014
DTEND;VALUE=DATE:20251017
DTSTAMP:20260422T220956
CREATED:20251006T135749Z
LAST-MODIFIED:20251006T141903Z
UID:3309-1760400000-1760659199@pedagogie-nord.ac-lille.fr
SUMMARY:Spectacle "Des chimères dans la tête" - Ballet du Nord - Roubaix
DESCRIPTION:« Des chimères dans la tête » de Sylvain Groud\, Françoise Pétrovitch et Hervé Plumet \nÀ la rencontre des arts visuels et de l’art chorégraphique\, Des chimères dans la tête est une invitation à plonger dans l’imaginaire abyssal de l’enfance révélé et sublimé par le geste dansé. Dissimulés derrière le décor\, trois interprètes se jouent de la pesanteur pour faire apparaître tantôt un bras\, une jambe\, peut-être une main…évoquant des pattes\, des ailes\, des antennes ! Ils complètent les corps des chimères dessinées à l’écran jusqu’à sortir du cadre et danser sur le plateau pour donner une vie pleine et entière à ces étranges créatures.\nMardi 14 octobre à 14h30 Jeudi 16 octobre 2025 à 10h30 au Colisée de Roubaix \ndes chimères dans la tête
URL:https://pedagogie-nord.ac-lille.fr/evenement/spectacle-des-chimeres-dans-la-tete-ballet-du-nord-roubaix/
LOCATION:Ballet du Nord – Centre chorégraphique National\, Roubaix
CATEGORIES:Danse
ATTACH;FMTTYPE=image/jpeg:https://pedagogie-nord.ac-lille.fr/wp-content/uploads/2025/10/chimères-herve-plumet-4-l-scaled-e1759759060504.jpg
END:VEVENT
END:VCALENDAR