BEGIN:VCALENDAR
VERSION:2.0
PRODID:-//Pédagogie Nord - ECPv6.15.20//NONSGML v1.0//EN
CALSCALE:GREGORIAN
METHOD:PUBLISH
X-WR-CALNAME:Pédagogie Nord
X-ORIGINAL-URL:https://pedagogie-nord.ac-lille.fr
X-WR-CALDESC:Évènements pour Pédagogie Nord
REFRESH-INTERVAL;VALUE=DURATION:PT1H
X-Robots-Tag:noindex
X-PUBLISHED-TTL:PT1H
BEGIN:VTIMEZONE
TZID:Europe/Paris
BEGIN:DAYLIGHT
TZOFFSETFROM:+0100
TZOFFSETTO:+0200
TZNAME:CEST
DTSTART:20250330T010000
END:DAYLIGHT
BEGIN:STANDARD
TZOFFSETFROM:+0200
TZOFFSETTO:+0100
TZNAME:CET
DTSTART:20251026T010000
END:STANDARD
BEGIN:DAYLIGHT
TZOFFSETFROM:+0100
TZOFFSETTO:+0200
TZNAME:CEST
DTSTART:20260329T010000
END:DAYLIGHT
BEGIN:STANDARD
TZOFFSETFROM:+0200
TZOFFSETTO:+0100
TZNAME:CET
DTSTART:20261025T010000
END:STANDARD
BEGIN:DAYLIGHT
TZOFFSETFROM:+0100
TZOFFSETTO:+0200
TZNAME:CEST
DTSTART:20270328T010000
END:DAYLIGHT
BEGIN:STANDARD
TZOFFSETFROM:+0200
TZOFFSETTO:+0100
TZNAME:CET
DTSTART:20271031T010000
END:STANDARD
END:VTIMEZONE
BEGIN:VEVENT
DTSTART;VALUE=DATE:20260116
DTEND;VALUE=DATE:20260117
DTSTAMP:20260422T174244
CREATED:20251006T132831Z
LAST-MODIFIED:20251007T143717Z
UID:3292-1768521600-1768607999@pedagogie-nord.ac-lille.fr
SUMMARY:Arôme Arôme - Cie La Grive
DESCRIPTION:Une table dressée d’une nappe blanche\, quelques verres à pied\, une lumière douce… c’est parti pour une dégustation pas comme les autres. Arôme Arôme invite petits et grands à explorer le lien entre goût et mouvement. Ici\, les papilles gustatives inspirent les gestes\, chaque saveur fait évoluer la danse. Avec Clémentine Maubon et Bastien Lefèvre (collectif La Grive)\, on observe\, on bouge\, et les sens s’éveillent. \n 
URL:https://pedagogie-nord.ac-lille.fr/evenement/arome-arome/
LOCATION:Le gymnase – Centre de Développement Chorégraphique National\, 5 Rue du Général Chanzy\, Roubaix\, 59100
CATEGORIES:Danse
ATTACH;FMTTYPE=image/jpeg:https://pedagogie-nord.ac-lille.fr/wp-content/uploads/2025/10/CIE-LA-GRIVE-4752-1-scaled-1-e1759757300281.jpg
END:VEVENT
END:VCALENDAR