BEGIN:VCALENDAR
VERSION:2.0
PRODID:-//Pédagogie Nord - ECPv6.15.20//NONSGML v1.0//EN
CALSCALE:GREGORIAN
METHOD:PUBLISH
X-WR-CALNAME:Pédagogie Nord
X-ORIGINAL-URL:https://pedagogie-nord.ac-lille.fr
X-WR-CALDESC:Évènements pour Pédagogie Nord
REFRESH-INTERVAL;VALUE=DURATION:PT1H
X-Robots-Tag:noindex
X-PUBLISHED-TTL:PT1H
BEGIN:VTIMEZONE
TZID:Europe/Paris
BEGIN:DAYLIGHT
TZOFFSETFROM:+0100
TZOFFSETTO:+0200
TZNAME:CEST
DTSTART:20220327T010000
END:DAYLIGHT
BEGIN:STANDARD
TZOFFSETFROM:+0200
TZOFFSETTO:+0100
TZNAME:CET
DTSTART:20221030T010000
END:STANDARD
BEGIN:DAYLIGHT
TZOFFSETFROM:+0100
TZOFFSETTO:+0200
TZNAME:CEST
DTSTART:20230326T010000
END:DAYLIGHT
BEGIN:STANDARD
TZOFFSETFROM:+0200
TZOFFSETTO:+0100
TZNAME:CET
DTSTART:20231029T010000
END:STANDARD
BEGIN:DAYLIGHT
TZOFFSETFROM:+0100
TZOFFSETTO:+0200
TZNAME:CEST
DTSTART:20240331T010000
END:DAYLIGHT
BEGIN:STANDARD
TZOFFSETFROM:+0200
TZOFFSETTO:+0100
TZNAME:CET
DTSTART:20241027T010000
END:STANDARD
END:VTIMEZONE
BEGIN:VEVENT
DTSTART;VALUE=DATE:20231218
DTEND;VALUE=DATE:20231219
DTSTAMP:20260422T220555
CREATED:20231208T152358Z
LAST-MODIFIED:20231208T152653Z
UID:2058-1702857600-1702943999@pedagogie-nord.ac-lille.fr
SUMMARY:Ciné-concert Planète Félix
DESCRIPTION:Planète Félix ! \nLes aventures drôles et poétiques du célèbre Félix le Chat mises en musique avec inventivité par la bassiste Suzy LeVoid (Miët\, MellaNoisEscape…) et la flutiste Leah Gracie (What a Day\, Hedgehog Sextet…). Des notes très colorées pour un héros en noir et blanc. Né de l’imagination d’Otto Messmer et Pat Sullivan voilà un siècle\, Félix le Chat fut alors aussi populaire que Charlie Chaplin et n’a pas pris une ride. \nPetits bijoux d’animation à l’humour surréaliste et à l’imagination sans limite\, les cinq courts-métrages présentés lors de ce ciné-concert promettent rires aux éclats et yeux écarquillés. Quant aux oreilles\, elles seront charmées par une création musicale conçue avec force trucs et astuces : une basse préparée\, une flûte traversière et des objets du quotidien savamment détournés ! Et puis il y a les voix de Leah Gracie et Suzy LeVoid : harmonies\, respirations et chuchotements\, des voix sans parole sur une musique entre pop\, rock et électroacoustique. Plongez dans Switches Witches\, Eskimotive\, April Maze\, Forty Winks et Astronomeous et naviguez entre péripéties du quotidien et grands voyages sur terre… et au-delà ! \nDeux séances à destination des élèves // Lundi 18 décembre 2023 à 10h & 14h \n 
URL:https://pedagogie-nord.ac-lille.fr/evenement/cine-concert-planete-felix/
LOCATION:Aéronef – Les spectacles sans gravité\, 168 Avenue Willy Brandt\, Lille
CATEGORIES:Cinéma,Musique
ATTACH;FMTTYPE=image/jpeg:https://pedagogie-nord.ac-lille.fr/wp-content/uploads/2023/12/affiche-planete-felix-chat.jpg
END:VEVENT
END:VCALENDAR