BEGIN:VCALENDAR
VERSION:2.0
PRODID:-//Pédagogie Nord - ECPv6.15.20//NONSGML v1.0//EN
CALSCALE:GREGORIAN
METHOD:PUBLISH
X-WR-CALNAME:Pédagogie Nord
X-ORIGINAL-URL:https://pedagogie-nord.ac-lille.fr
X-WR-CALDESC:Évènements pour Pédagogie Nord
REFRESH-INTERVAL;VALUE=DURATION:PT1H
X-Robots-Tag:noindex
X-PUBLISHED-TTL:PT1H
BEGIN:VTIMEZONE
TZID:Europe/Paris
BEGIN:DAYLIGHT
TZOFFSETFROM:+0100
TZOFFSETTO:+0200
TZNAME:CEST
DTSTART:20230326T010000
END:DAYLIGHT
BEGIN:STANDARD
TZOFFSETFROM:+0200
TZOFFSETTO:+0100
TZNAME:CET
DTSTART:20231029T010000
END:STANDARD
BEGIN:DAYLIGHT
TZOFFSETFROM:+0100
TZOFFSETTO:+0200
TZNAME:CEST
DTSTART:20240331T010000
END:DAYLIGHT
BEGIN:STANDARD
TZOFFSETFROM:+0200
TZOFFSETTO:+0100
TZNAME:CET
DTSTART:20241027T010000
END:STANDARD
BEGIN:DAYLIGHT
TZOFFSETFROM:+0100
TZOFFSETTO:+0200
TZNAME:CEST
DTSTART:20250330T010000
END:DAYLIGHT
BEGIN:STANDARD
TZOFFSETFROM:+0200
TZOFFSETTO:+0100
TZNAME:CET
DTSTART:20251026T010000
END:STANDARD
END:VTIMEZONE
BEGIN:VEVENT
DTSTART;VALUE=DATE:20240119
DTEND;VALUE=DATE:20240120
DTSTAMP:20260422T204448
CREATED:20231215T160634Z
LAST-MODIFIED:20231215T164255Z
UID:2120-1705622400-1705708799@pedagogie-nord.ac-lille.fr
SUMMARY:Concert de Poche / Quatuor de violoncelles à Wattignies
DESCRIPTION:Le concert\nVENDREDI 19 JANVIER 2024 À 19H À WATTIGNIES (59) \nOffenbach\, Fitzenhagen\, Piazzolla\navec\nAnne GASTINEL\, violoncelle\nXavier PHILLIPS\, violoncelle\nLila BEAUCHARD\, violoncelle\nLeonardo CAPEZZALI\, violoncelle \nCes deux violoncellistes très renommés et exceptionnellement chaleureux et virtuoses nous emmènent dans l’univers drôle et romantique d’Offenbach et entraînent avec eux deux jeunes talents passionnés. Ils partagent tous les quatre la scène dans un esprit de compagnonnage à la fois convivial et exigeant. Ils offrent un répertoire varié de transcriptions et d’œuvres originales pour quatre violoncelles\, pour un concert puissant et joyeux\, extrêmement vivant\, romantique et brillant. \nLes ateliers\nLes écoles Bracke-Desrousseaux et Simone Veil de la ville de Wattignies suivent des ateliers de chant choral toutes les semaines à partir de septembre avec la cheffe de chœur Bertille Outrebon. Les participants interprètent le répertoire joué lors du concert et en assurent la première partie\, accompagnés par les concertistes.\nEn parallèle\, des ateliers Musique en chantier sont organisés dans différentes structures sociales et scolaires du territoire à l’occasion desquels les participants sont invités à composer une musique à partir d’une histoire inventée collectivement. \nEn partenariat avec la Ville de Wattignies \nDans le cadre du Contrat de Ville \n  \nRéservation\nEn ligne : https://bit.ly/cdp-a23-wattignies ou par téléphone au 06 76 61 83 91\n10 € plein tarif / 6 € tarif réduit
URL:https://pedagogie-nord.ac-lille.fr/evenement/concert-de-poche-quatuor-de-violoncelles-a-wattignies/
LOCATION:Centre Culturel Robert Delefosse\, Avenue des Arts\, Wattignies\, France
CATEGORIES:Musique
ATTACH;FMTTYPE=image/jpeg:https://pedagogie-nord.ac-lille.fr/wp-content/uploads/2023/12/affiche-wattignies-19.01.24.jpg
END:VEVENT
BEGIN:VEVENT
DTSTART;VALUE=DATE:20240126
DTEND;VALUE=DATE:20240127
DTSTAMP:20260422T204448
CREATED:20231204T142109Z
LAST-MODIFIED:20231204T144935Z
UID:1990-1706227200-1706313599@pedagogie-nord.ac-lille.fr
SUMMARY:Mon premier ciné concert - ONL
DESCRIPTION:« Mon premier ciné-concert » est une porte d’entrée ludique et humoristique pour découvrir cinq courts métrages choisis pour leur richesse graphique et leur fil rouge célébrant la rencontre et la différence. \nMaternelle – élémentaire\n*** Les réservations pour les concerts scolaires se font en ligne ici. \nAfin de préparer leur venue\, des ressources pédagogiques sont disponibles en ligne un mois avant la date du concert. (ressources pédagogiques à consulter) \nN’hésitez pas à les contacter pour tout renseignement : pedagogie@on-lille.com
URL:https://pedagogie-nord.ac-lille.fr/evenement/mon-premier-cine-concert-onl/
LOCATION:Nouveau Siècle\, Place Mendes France\, Lille\, 59800\, France
CATEGORIES:Musique
ATTACH;FMTTYPE=image/jpeg:https://pedagogie-nord.ac-lille.fr/wp-content/uploads/2023/12/ONL1.jpg
END:VEVENT
END:VCALENDAR