BEGIN:VCALENDAR
VERSION:2.0
PRODID:-//Pédagogie Nord - ECPv6.15.20//NONSGML v1.0//EN
CALSCALE:GREGORIAN
METHOD:PUBLISH
X-WR-CALNAME:Pédagogie Nord
X-ORIGINAL-URL:https://pedagogie-nord.ac-lille.fr
X-WR-CALDESC:Évènements pour Pédagogie Nord
REFRESH-INTERVAL;VALUE=DURATION:PT1H
X-Robots-Tag:noindex
X-PUBLISHED-TTL:PT1H
BEGIN:VTIMEZONE
TZID:Europe/Paris
BEGIN:DAYLIGHT
TZOFFSETFROM:+0100
TZOFFSETTO:+0200
TZNAME:CEST
DTSTART:20230326T010000
END:DAYLIGHT
BEGIN:STANDARD
TZOFFSETFROM:+0200
TZOFFSETTO:+0100
TZNAME:CET
DTSTART:20231029T010000
END:STANDARD
BEGIN:DAYLIGHT
TZOFFSETFROM:+0100
TZOFFSETTO:+0200
TZNAME:CEST
DTSTART:20240331T010000
END:DAYLIGHT
BEGIN:STANDARD
TZOFFSETFROM:+0200
TZOFFSETTO:+0100
TZNAME:CET
DTSTART:20241027T010000
END:STANDARD
BEGIN:DAYLIGHT
TZOFFSETFROM:+0100
TZOFFSETTO:+0200
TZNAME:CEST
DTSTART:20250330T010000
END:DAYLIGHT
BEGIN:STANDARD
TZOFFSETFROM:+0200
TZOFFSETTO:+0100
TZNAME:CET
DTSTART:20251026T010000
END:STANDARD
END:VTIMEZONE
BEGIN:VEVENT
DTSTART;VALUE=DATE:20240202
DTEND;VALUE=DATE:20240203
DTSTAMP:20260422T191731
CREATED:20231215T170106Z
LAST-MODIFIED:20231215T170324Z
UID:2148-1706832000-1706918399@pedagogie-nord.ac-lille.fr
SUMMARY:Concert de Poche / Récital de piano à Fromelles
DESCRIPTION:Le concert\nMERCREDI 2 FÉVRIER 2024 À 19H30 à Fromelles (59) \nI got rhythm : musiques américaines\nBarber\, Gershwin\, Copland\, Joplin…\navec\nDavid LIVELY\, piano \nPianiste franco-américain\, David Lively\, passionnément attaché aux patrimoines musicaux de ses deux pays\, en est un interprète de référence. Avec sa technique éblouissante et son enthousiasme communicatif\, il remporte tous les suffrages. Son programme est ici consacré à la musique américaine pour piano\, répertoire très riche\, aux confins de la musique de jazz. Ses interprétations nous entraînent dans des rythmes et des images que peu de pianistes maîtrisent aussi bien. Voilà donc « un guide inspiré de la musique américaine » (Le Monde) que Les Concerts de Poche sont ravis et honorés d’accueillir ! \nLes ateliers\nFondés sur la création\, l’interprétation et l’improvisation\, des ateliers Musique en chantier sont organisés à Fromelles auprès de différentes structures sociales et scolaires du territoire. Menés par un musicien et un comédien\, ils invitent les participants à composer leur propre musique à partir d’une histoire imaginée collectivement et à se mettre dans la peau d’un compositeur. Le jour du concert\, les élèves de l’école des Cobbers se produisent en lever de rideau\, suite à la formation à la direction de chœur suivie par leur enseignante. \nEn partenariat avec la Commune de Fromelles \n  \nRéservation\nEn ligne : https://bit.ly/cdp-a23-fromelles ou par téléphone au 06 76 61 83 91\n10 € plein tarif / 6 € tarif réduit
URL:https://pedagogie-nord.ac-lille.fr/evenement/concert-de-poche-recital-de-piano-a-fromelles/
LOCATION:Salle Cathy Freeman\, 13 rue de l'église\, Fromelles\, 59249\, France
CATEGORIES:Musique
ATTACH;FMTTYPE=image/jpeg:https://pedagogie-nord.ac-lille.fr/wp-content/uploads/2023/12/concert-en-poche-fromelles-02022024.jpg
END:VEVENT
BEGIN:VEVENT
DTSTART;VALUE=DATE:20240217
DTEND;VALUE=DATE:20240218
DTSTAMP:20260422T191731
CREATED:20231215T162612Z
LAST-MODIFIED:20231215T164952Z
UID:2132-1708128000-1708214399@pedagogie-nord.ac-lille.fr
SUMMARY:Concert de Poche / Danse à travers les continents
DESCRIPTION:SAMEDI 17 FÉVRIER 2024 À 17H À HANTAY (59)\nDanse à travers les continents\nSchubert\, Saint-Saëns\, Brahms\, Tchaïkovski\, Finzi\, Bernstein…\navec\nLéa HENNINO\, alto\nFanny VICENS\, accordéon\nOrianne VILMER\, danseuse chorégraphe\nTimothée BOULOY\, danseur\nEmmanuelle SIMON\, danseuse\nDenis BARONNET\, récitant \nCes deux musiciennes\, à la carrière internationale\, ont en commun d’être toujours en mouvement\, à la recherche de répertoires nouveaux\, transcriptions\, adaptations et créations. L’une compte parmi les altistes les plus prometteuses de sa génération. L’autre suit un parcourt singulier conciliant piano\, accordéon\, musique classique et expérimentale. Pour ce concert\, elles ont choisi le thème de la danse\, sur tous les rythmes. Et quoi de mieux pour cela que de s’accompagner de danseurs ? Ce projet est en effet le fruit d’une collaboration étroite avec La Fabrique de la Danse et Le Labo des Histoires. Même les participants aux ateliers y apportent leur touche lors de la première partie. Voilà qui promet une soirée haute en couleurs et en émotions ! \nLes ateliers\nLa classe de CM1- CM2 de l’école de Hantay participe entre septembre et février à des ateliers d’écriture\, de chant choral et de danse pour proposer une restitution pluridisciplinaire en première partie de concert. Un projet en collaboration avec Le Labo des Histoires et La Fabrique de la Danse\, en lien avec les Jeux olympiques 2024. Des ateliers Musique en chantier sont également organisés auprès des habitants du territoire. \nEn partenariat avec la Commune de Hantay\, La Fabrique de la Danse et Le Labo des Histoires \nRéservation\nEn ligne : https://bit.ly/cdp-a23-hantay ou par téléphone au 06 76 61 83 91\n10 € plein tarif / 6 € tarif réduit
URL:https://pedagogie-nord.ac-lille.fr/evenement/concert-de-poche-danse-a-travers-les-continents/
LOCATION:Salle La Gallicante\, Rue Schœlcher\, Hantay\, 59496
CATEGORIES:Musique
ATTACH;FMTTYPE=image/jpeg:https://pedagogie-nord.ac-lille.fr/wp-content/uploads/2023/12/00070_01_photo-lea-hennino.jpg
END:VEVENT
BEGIN:VEVENT
DTSTART;VALUE=DATE:20240218
DTEND;VALUE=DATE:20240219
DTSTAMP:20260422T191731
CREATED:20231208T150943Z
LAST-MODIFIED:20231212T154144Z
UID:2054-1708214400-1708300799@pedagogie-nord.ac-lille.fr
SUMMARY:Formation à la direction de chorale scolaire - Les Concerts de Poche
DESCRIPTION:Les Concerts de Poche proposent à un groupe d’enseignants du 1er degré et de professeurs de lycées du bassin d’Avesnes-sur-Helpe d’apprendre à diriger un choeur et mener des séances de chant choral\, à travers une formation collective puis un suivi individuel personnalisé au sein des établissements des participants. \nAu cours de la formation\, menée par le chef de choeur Thibaut Waxin\, les enseignants ont l’occasion de vivre l’expérience de la scène en tant que choristes lors d’un concert au Nouvion-en-Thiérache\, dimanche 18 février 2024. \nUn grand concert de restitution des chorales scolaires est prévu à Aulnoye-Aymeries à la fin de l’année scolaire.
URL:https://pedagogie-nord.ac-lille.fr/evenement/formation-a-la-direction-de-chorale-scolaire-les-concerts-de-poche/
LOCATION:Les concerts de Poche\, 6 rue de Bouvines\, Lille
CATEGORIES:Musique
ATTACH;FMTTYPE=image/jpeg:https://pedagogie-nord.ac-lille.fr/wp-content/uploads/2023/12/concert-en-poche.jpg
END:VEVENT
END:VCALENDAR