BEGIN:VCALENDAR
VERSION:2.0
PRODID:-//Pédagogie Nord - ECPv6.15.20//NONSGML v1.0//EN
CALSCALE:GREGORIAN
METHOD:PUBLISH
X-ORIGINAL-URL:https://pedagogie-nord.ac-lille.fr
X-WR-CALDESC:Évènements pour Pédagogie Nord
REFRESH-INTERVAL;VALUE=DURATION:PT1H
X-Robots-Tag:noindex
X-PUBLISHED-TTL:PT1H
BEGIN:VTIMEZONE
TZID:Europe/Paris
BEGIN:DAYLIGHT
TZOFFSETFROM:+0100
TZOFFSETTO:+0200
TZNAME:CEST
DTSTART:20230326T010000
END:DAYLIGHT
BEGIN:STANDARD
TZOFFSETFROM:+0200
TZOFFSETTO:+0100
TZNAME:CET
DTSTART:20231029T010000
END:STANDARD
BEGIN:DAYLIGHT
TZOFFSETFROM:+0100
TZOFFSETTO:+0200
TZNAME:CEST
DTSTART:20240331T010000
END:DAYLIGHT
BEGIN:STANDARD
TZOFFSETFROM:+0200
TZOFFSETTO:+0100
TZNAME:CET
DTSTART:20241027T010000
END:STANDARD
BEGIN:DAYLIGHT
TZOFFSETFROM:+0100
TZOFFSETTO:+0200
TZNAME:CEST
DTSTART:20250330T010000
END:DAYLIGHT
BEGIN:STANDARD
TZOFFSETFROM:+0200
TZOFFSETTO:+0100
TZNAME:CET
DTSTART:20251026T010000
END:STANDARD
END:VTIMEZONE
BEGIN:VEVENT
DTSTART;VALUE=DATE:20240516
DTEND;VALUE=DATE:20240518
DTSTAMP:20260422T150856
CREATED:20231204T144259Z
LAST-MODIFIED:20231204T144259Z
UID:2001-1715817600-1715990399@pedagogie-nord.ac-lille.fr
SUMMARY:Concert "Les Forains" - ONL (séances scolaires)
DESCRIPTION:Mesdames\, Messieurs\, petits et grands\, prenez place et ouvrez grand vos oreilles pour écouter ce drôle de cirque ! Au travers de l’œuvre d’Henri Sauguet\, venez découvrir l’univers contrasté des forains. \nDe « La petite Fille à la chaise » au « Clown » en passant par le « Prestidigitateur »\, toutes les facettes de ce monde sont évoquées avec brio et tendresse par le compositeur\, digne disciple d’Erik Satie\, à qui il dédie cette œuvre. Précédé d’une présentation des instruments\, le concert sublimé par les illustrations en direct de Grégoire Pont vous emportera dans une parade magique et grandiose ! \ndès 5 ans \nAfin de préparer leur venue\, des ressources pédagogiques sont disponibles en ligne un mois avant la date du concert. \n*** Les réservations pour les concerts scolaires se font en ligne ici. \nN’hésitez pas à les contacter pour tout renseignement : pedagogie@on-lille.com
URL:https://pedagogie-nord.ac-lille.fr/evenement/concert-les-forains-onl-seances-scolaires/
LOCATION:Nouveau Siècle\, Place Mendes France\, Lille\, 59800\, France
CATEGORIES:Musique
ATTACH;FMTTYPE=image/jpeg:https://pedagogie-nord.ac-lille.fr/wp-content/uploads/2023/12/LES_FORAINS_328px_23-24.jpg
END:VEVENT
END:VCALENDAR