BEGIN:VCALENDAR
VERSION:2.0
PRODID:-//Pédagogie Nord - ECPv6.15.20//NONSGML v1.0//EN
CALSCALE:GREGORIAN
METHOD:PUBLISH
X-ORIGINAL-URL:https://pedagogie-nord.ac-lille.fr
X-WR-CALDESC:Évènements pour Pédagogie Nord
REFRESH-INTERVAL;VALUE=DURATION:PT1H
X-Robots-Tag:noindex
X-PUBLISHED-TTL:PT1H
BEGIN:VTIMEZONE
TZID:Europe/Paris
BEGIN:DAYLIGHT
TZOFFSETFROM:+0100
TZOFFSETTO:+0200
TZNAME:CEST
DTSTART:20230326T010000
END:DAYLIGHT
BEGIN:STANDARD
TZOFFSETFROM:+0200
TZOFFSETTO:+0100
TZNAME:CET
DTSTART:20231029T010000
END:STANDARD
BEGIN:DAYLIGHT
TZOFFSETFROM:+0100
TZOFFSETTO:+0200
TZNAME:CEST
DTSTART:20240331T010000
END:DAYLIGHT
BEGIN:STANDARD
TZOFFSETFROM:+0200
TZOFFSETTO:+0100
TZNAME:CET
DTSTART:20241027T010000
END:STANDARD
BEGIN:DAYLIGHT
TZOFFSETFROM:+0100
TZOFFSETTO:+0200
TZNAME:CEST
DTSTART:20250330T010000
END:DAYLIGHT
BEGIN:STANDARD
TZOFFSETFROM:+0200
TZOFFSETTO:+0100
TZNAME:CET
DTSTART:20251026T010000
END:STANDARD
END:VTIMEZONE
BEGIN:VEVENT
DTSTART;VALUE=DATE:20240606
DTEND;VALUE=DATE:20240608
DTSTAMP:20260422T135032
CREATED:20231204T143633Z
LAST-MODIFIED:20231204T143633Z
UID:1997-1717632000-1717804799@pedagogie-nord.ac-lille.fr
SUMMARY:Concert "La première fois que je suis née" - ONL
DESCRIPTION:La Première Fois que je suis née est un joyau de la littérature jeunesse. Écrit par Vincent Cuvellier et illustré par Charles Dutertre\, ce récit nous raconte toutes les premières fois d’une petite fille. Le quotidien\, les aventures mais aussi les expériences plus profondes sont abordées avec humour et tendresse. Le texte aborde les grands thèmes du cycle de la vie humaine : naître\, grandir\, apprendre\, aimer\, enfanter\, mourir. Donatienne Michel-Dansac narre cette histoire enrichie des images animées sur grand écran\, passant de la petite fille qui mange ses petits pois à l’adulte en passe de devenir maman. Le compositeur se laisse porter par la continuité de chaque aventure pour créer une orchestration à l’univers poétique. \nAfin de préparer leur venue\, des ressources pédagogiques sont disponibles en ligne un mois avant la date du concert. (ressources pédagogiques) \n*** Les réservations pour les concerts scolaires se font en ligne ici. \nN’hésitez pas à les contacter pour tout renseignement. \npedagogie@on-lille.com
URL:https://pedagogie-nord.ac-lille.fr/evenement/concert-la-premiere-fois-que-je-suis-nee-onl/
LOCATION:Nouveau Siècle\, Place Mendes France\, Lille\, 59800\, France
CATEGORIES:Musique
ATTACH;FMTTYPE=image/jpeg:https://pedagogie-nord.ac-lille.fr/wp-content/uploads/2023/12/ONL2.jpg
END:VEVENT
END:VCALENDAR