BEGIN:VCALENDAR
VERSION:2.0
PRODID:-//Pédagogie Nord - ECPv6.15.20//NONSGML v1.0//EN
CALSCALE:GREGORIAN
METHOD:PUBLISH
X-ORIGINAL-URL:https://pedagogie-nord.ac-lille.fr
X-WR-CALDESC:Évènements pour Pédagogie Nord
REFRESH-INTERVAL;VALUE=DURATION:PT1H
X-Robots-Tag:noindex
X-PUBLISHED-TTL:PT1H
BEGIN:VTIMEZONE
TZID:Europe/Paris
BEGIN:DAYLIGHT
TZOFFSETFROM:+0100
TZOFFSETTO:+0200
TZNAME:CEST
DTSTART:20230326T010000
END:DAYLIGHT
BEGIN:STANDARD
TZOFFSETFROM:+0200
TZOFFSETTO:+0100
TZNAME:CET
DTSTART:20231029T010000
END:STANDARD
BEGIN:DAYLIGHT
TZOFFSETFROM:+0100
TZOFFSETTO:+0200
TZNAME:CEST
DTSTART:20240331T010000
END:DAYLIGHT
BEGIN:STANDARD
TZOFFSETFROM:+0200
TZOFFSETTO:+0100
TZNAME:CET
DTSTART:20241027T010000
END:STANDARD
BEGIN:DAYLIGHT
TZOFFSETFROM:+0100
TZOFFSETTO:+0200
TZNAME:CEST
DTSTART:20250330T010000
END:DAYLIGHT
BEGIN:STANDARD
TZOFFSETFROM:+0200
TZOFFSETTO:+0100
TZNAME:CET
DTSTART:20251026T010000
END:STANDARD
END:VTIMEZONE
BEGIN:VEVENT
DTSTART;VALUE=DATE:20241018
DTEND;VALUE=DATE:20241019
DTSTAMP:20260422T074744
CREATED:20241001T130816Z
LAST-MODIFIED:20241002T092213Z
UID:2624-1729209600-1729295999@pedagogie-nord.ac-lille.fr
SUMMARY:Au fond des mers - Centre André Malraux - Hazebrouck
DESCRIPTION:Au début il y a eu l’eau\, la mer\, puis petit à petit : la vie. Deux étranges plongeuses partent en exploration dans les eaux profondes. Dans cette plongée\, elles font la rencontre d’une drôle de créature qui n’a pas de forme définie\, qui va se transformer\, se métamorphoser et prendre différentes apparences\, grandir jusqu’à ce qu’elle soit prête à sortir de sa coquille. Au Fond des Mers établit un parallèle entre le monde aquatique et le monde intra-utérin\, en théâtre d’ombres\, jeux de lumières et marionnettes. Une création pleine de poésie et mêlant les disciplines qui émerveillera les plus petits et embarquera les plus grands. \nThéâtre Immersif – Création « Collectif  23h50 » \nVendredi 18 Octobre 2024 à 10h- 14h15 \nTout public 18h30 \nEspace Flandre Hazebrouck \nDurée 30 min – À partir de 6 mois
URL:https://pedagogie-nord.ac-lille.fr/evenement/au-fond-des-mers-centre-andre-malraux-hazebrouck/
LOCATION:Centre André Malraux\, 4 rue du milieu\, Hazebrouck\, 59190
CATEGORIES:Arts visuels,Danse,Musique,Théâtre
ATTACH;FMTTYPE=image/jpeg:https://pedagogie-nord.ac-lille.fr/wp-content/uploads/2024/10/AU-FONDS-DES-MERS.jpg
END:VEVENT
END:VCALENDAR