BEGIN:VCALENDAR
VERSION:2.0
PRODID:-//Pédagogie Nord - ECPv6.15.20//NONSGML v1.0//EN
CALSCALE:GREGORIAN
METHOD:PUBLISH
X-WR-CALNAME:Pédagogie Nord
X-ORIGINAL-URL:https://pedagogie-nord.ac-lille.fr
X-WR-CALDESC:Évènements pour Pédagogie Nord
REFRESH-INTERVAL;VALUE=DURATION:PT1H
X-Robots-Tag:noindex
X-PUBLISHED-TTL:PT1H
BEGIN:VTIMEZONE
TZID:Europe/Paris
BEGIN:DAYLIGHT
TZOFFSETFROM:+0100
TZOFFSETTO:+0200
TZNAME:CEST
DTSTART:20230326T010000
END:DAYLIGHT
BEGIN:STANDARD
TZOFFSETFROM:+0200
TZOFFSETTO:+0100
TZNAME:CET
DTSTART:20231029T010000
END:STANDARD
BEGIN:DAYLIGHT
TZOFFSETFROM:+0100
TZOFFSETTO:+0200
TZNAME:CEST
DTSTART:20240331T010000
END:DAYLIGHT
BEGIN:STANDARD
TZOFFSETFROM:+0200
TZOFFSETTO:+0100
TZNAME:CET
DTSTART:20241027T010000
END:STANDARD
BEGIN:DAYLIGHT
TZOFFSETFROM:+0100
TZOFFSETTO:+0200
TZNAME:CEST
DTSTART:20250330T010000
END:DAYLIGHT
BEGIN:STANDARD
TZOFFSETFROM:+0200
TZOFFSETTO:+0100
TZNAME:CET
DTSTART:20251026T010000
END:STANDARD
END:VTIMEZONE
BEGIN:VEVENT
DTSTART;TZID=Europe/Paris:20241209T103000
DTEND;TZID=Europe/Paris:20241209T113000
DTSTAMP:20260422T043322
CREATED:20241104T133748Z
LAST-MODIFIED:20241104T152822Z
UID:2739-1733740200-1733743800@pedagogie-nord.ac-lille.fr
SUMMARY:Algues Vertes - BD-concert 
DESCRIPTION:… Un scandale\, nauséabond\, qui imprègne nos sols\, nos rivières et nos plages\, nos assiettes et nos champs\, nos villages et nos villes\, nos familles\, nos paysans et nos ouvriers\, notre classe laborieuse\, notre démocratie\, nos vies… \nArnaud Kermarrec-Tortorici (Mnemotechnic) et François Joncour (Poing) portent sur scène et à l’écran l’alerte brillamment lancée par Inès Léraud et Pierre Van Hove en 2019 à travers la BD-enquête Algues vertes\, l’histoire interdite (Revue dessinée / Editions Delcourt). \nLe concert-BD Algues Vertes (par Mnemotechnic + Poing) articule musiques rock\, musiques électroniques\, images\, vidéo\, journalisme\, récits audios et témoignages radiophoniques autour du sujet de l’impact social et environnemental des modes de production de notre alimentation. \nSpectacle destiné à un public à partir du cycle 3 (10 ans)
URL:https://pedagogie-nord.ac-lille.fr/evenement/algues-vertes-bd-concert/
LOCATION:Aéronef – Les spectacles sans gravité\, 168 Avenue Willy Brandt\, Lille
CATEGORIES:Musique
ATTACH;FMTTYPE=image/png:https://pedagogie-nord.ac-lille.fr/wp-content/uploads/2024/11/square-algues-vertes.png
END:VEVENT
BEGIN:VEVENT
DTSTART;VALUE=DATE:20241210
DTEND;VALUE=DATE:20241211
DTSTAMP:20260422T043322
CREATED:20241001T145934Z
LAST-MODIFIED:20241001T145934Z
UID:2635-1733788800-1733875199@pedagogie-nord.ac-lille.fr
SUMMARY:Gabor et les chapeaux rouilles - Centre André Malraux Hazebrouck
DESCRIPTION:Plus on est de fous… plus on rêve ! C’est le credo de Gabor et les chapeaux rouillés. Une expérience de spectacle unique que vous n’êtes pas prêts d’oublier. Dans un monde où toute forme de vie semble avoir disparue\, Gabor\, personnage solitaire et fantastique\, doit terminer la construction d’une machine appelée « Harmonie ». C’est elle qui doit lui permettre de retrouver l’humanité. Aidé de ses amis\, les Chapeaux Rouillés\, il entreprend un voyage féérique émaillé de chansons où le public est d’abord embarqué clandestinement. Quelque part entre Tim Burton et Jean-Pierre Jeunet\, Terry Gilliam et le Cirque du soleil\, Gabor et les chapeaux rouillés est un bonheur visuel porteur d’un message humaniste qui va droit au cœur. Idéal pour entamer la période des fêtes ! \nThéâtre Musical – Les 4 productions \nMardi 10 Décembre 2024 à 14h15 \nTout public à 20h \nEspace Flandre Hazebrouck \nDurée 1h20 – À partir de 4 ans
URL:https://pedagogie-nord.ac-lille.fr/evenement/gabor-et-les-chapeaux-rouilles-centre-andre-malraux-hazebrouck/
LOCATION:Centre André Malraux\, 4 rue du milieu\, Hazebrouck\, 59190
CATEGORIES:Arts visuels,Danse,Musique,Théâtre
ATTACH;FMTTYPE=image/jpeg:https://pedagogie-nord.ac-lille.fr/wp-content/uploads/2024/10/gabor.jpg
END:VEVENT
END:VCALENDAR