BEGIN:VCALENDAR
VERSION:2.0
PRODID:-//Pédagogie Nord - ECPv6.15.20//NONSGML v1.0//EN
CALSCALE:GREGORIAN
METHOD:PUBLISH
X-WR-CALNAME:Pédagogie Nord
X-ORIGINAL-URL:https://pedagogie-nord.ac-lille.fr
X-WR-CALDESC:Évènements pour Pédagogie Nord
REFRESH-INTERVAL;VALUE=DURATION:PT1H
X-Robots-Tag:noindex
X-PUBLISHED-TTL:PT1H
BEGIN:VTIMEZONE
TZID:Europe/Paris
BEGIN:DAYLIGHT
TZOFFSETFROM:+0100
TZOFFSETTO:+0200
TZNAME:CEST
DTSTART:20230326T010000
END:DAYLIGHT
BEGIN:STANDARD
TZOFFSETFROM:+0200
TZOFFSETTO:+0100
TZNAME:CET
DTSTART:20231029T010000
END:STANDARD
BEGIN:DAYLIGHT
TZOFFSETFROM:+0100
TZOFFSETTO:+0200
TZNAME:CEST
DTSTART:20240331T010000
END:DAYLIGHT
BEGIN:STANDARD
TZOFFSETFROM:+0200
TZOFFSETTO:+0100
TZNAME:CET
DTSTART:20241027T010000
END:STANDARD
BEGIN:DAYLIGHT
TZOFFSETFROM:+0100
TZOFFSETTO:+0200
TZNAME:CEST
DTSTART:20250330T010000
END:DAYLIGHT
BEGIN:STANDARD
TZOFFSETFROM:+0200
TZOFFSETTO:+0100
TZNAME:CET
DTSTART:20251026T010000
END:STANDARD
END:VTIMEZONE
BEGIN:VEVENT
DTSTART;VALUE=DATE:20240202
DTEND;VALUE=DATE:20240203
DTSTAMP:20260422T204153
CREATED:20231215T170106Z
LAST-MODIFIED:20231215T170324Z
UID:2148-1706832000-1706918399@pedagogie-nord.ac-lille.fr
SUMMARY:Concert de Poche / Récital de piano à Fromelles
DESCRIPTION:Le concert\nMERCREDI 2 FÉVRIER 2024 À 19H30 à Fromelles (59) \nI got rhythm : musiques américaines\nBarber\, Gershwin\, Copland\, Joplin…\navec\nDavid LIVELY\, piano \nPianiste franco-américain\, David Lively\, passionnément attaché aux patrimoines musicaux de ses deux pays\, en est un interprète de référence. Avec sa technique éblouissante et son enthousiasme communicatif\, il remporte tous les suffrages. Son programme est ici consacré à la musique américaine pour piano\, répertoire très riche\, aux confins de la musique de jazz. Ses interprétations nous entraînent dans des rythmes et des images que peu de pianistes maîtrisent aussi bien. Voilà donc « un guide inspiré de la musique américaine » (Le Monde) que Les Concerts de Poche sont ravis et honorés d’accueillir ! \nLes ateliers\nFondés sur la création\, l’interprétation et l’improvisation\, des ateliers Musique en chantier sont organisés à Fromelles auprès de différentes structures sociales et scolaires du territoire. Menés par un musicien et un comédien\, ils invitent les participants à composer leur propre musique à partir d’une histoire imaginée collectivement et à se mettre dans la peau d’un compositeur. Le jour du concert\, les élèves de l’école des Cobbers se produisent en lever de rideau\, suite à la formation à la direction de chœur suivie par leur enseignante. \nEn partenariat avec la Commune de Fromelles \n  \nRéservation\nEn ligne : https://bit.ly/cdp-a23-fromelles ou par téléphone au 06 76 61 83 91\n10 € plein tarif / 6 € tarif réduit
URL:https://pedagogie-nord.ac-lille.fr/evenement/concert-de-poche-recital-de-piano-a-fromelles/
LOCATION:Salle Cathy Freeman\, 13 rue de l'église\, Fromelles\, 59249\, France
CATEGORIES:Musique
ATTACH;FMTTYPE=image/jpeg:https://pedagogie-nord.ac-lille.fr/wp-content/uploads/2023/12/concert-en-poche-fromelles-02022024.jpg
END:VEVENT
END:VCALENDAR