BEGIN:VCALENDAR
VERSION:2.0
PRODID:-//Pédagogie Nord - ECPv6.15.20//NONSGML v1.0//EN
CALSCALE:GREGORIAN
METHOD:PUBLISH
X-ORIGINAL-URL:https://pedagogie-nord.ac-lille.fr
X-WR-CALDESC:Évènements pour Pédagogie Nord
REFRESH-INTERVAL;VALUE=DURATION:PT1H
X-Robots-Tag:noindex
X-PUBLISHED-TTL:PT1H
BEGIN:VTIMEZONE
TZID:Europe/Paris
BEGIN:DAYLIGHT
TZOFFSETFROM:+0100
TZOFFSETTO:+0200
TZNAME:CEST
DTSTART:20230326T010000
END:DAYLIGHT
BEGIN:STANDARD
TZOFFSETFROM:+0200
TZOFFSETTO:+0100
TZNAME:CET
DTSTART:20231029T010000
END:STANDARD
BEGIN:DAYLIGHT
TZOFFSETFROM:+0100
TZOFFSETTO:+0200
TZNAME:CEST
DTSTART:20240331T010000
END:DAYLIGHT
BEGIN:STANDARD
TZOFFSETFROM:+0200
TZOFFSETTO:+0100
TZNAME:CET
DTSTART:20241027T010000
END:STANDARD
BEGIN:DAYLIGHT
TZOFFSETFROM:+0100
TZOFFSETTO:+0200
TZNAME:CEST
DTSTART:20250330T010000
END:DAYLIGHT
BEGIN:STANDARD
TZOFFSETFROM:+0200
TZOFFSETTO:+0100
TZNAME:CET
DTSTART:20251026T010000
END:STANDARD
END:VTIMEZONE
BEGIN:VEVENT
DTSTART;VALUE=DATE:20240315
DTEND;VALUE=DATE:20240316
DTSTAMP:20260422T192002
CREATED:20240214T173208Z
LAST-MODIFIED:20240214T173208Z
UID:2255-1710460800-1710547199@pedagogie-nord.ac-lille.fr
SUMMARY:Aynur - Opéra de Lille
DESCRIPTION:Elle est l’icône enchanteresse d’un peuple en lutte…\nEn 2005\, sa chanson Keçe Kurdan appelle les femmes à lutter contre leur oppression et retentit dans le monde entier comme un hymne de la communauté kurde. Depuis\, Aynur n’a cessé de tracer son chemin musical\, tour à tour témoin et messagère\, compositrice à part entière mais aussi gardienne du répertoire traditionnel des chants et danses populaires des plaines et des montagnes. \nRécompensée par de nombreux prix internationaux (Womex\, Femmes de la Méditerranée)\, invitée par des musiciens aussi prestigieux que le violoncelliste Yo-Yo Ma et son Silk Road Ensemble\, elle a décliné au fil de sept albums son propre mélange de tradition et d’influences occidentales\, d’agilité vocale et de douceur\, tout en puissance et en subtilité. Passant d’un luth solitaire à des cordes opulentes\, du jazz aux mélodies folkloriques\, elle apporte à chaque élément de son répertoire une même intensité. « Dans la culture alévie dont je suis issue\, explique-t-elle\, il n’y a pas de livre sacré. C’est pourquoi la musique y joue un rôle majeur. Tous les témoignages\, toutes les histoires ont été transmises par la musique depuis des générations ». \n 
URL:https://pedagogie-nord.ac-lille.fr/evenement/aynur-opera-de-lille/
LOCATION:Opéra de Lille\, place du théâtre\, Lille\, 59000
CATEGORIES:Musique
ATTACH;FMTTYPE=image/jpeg:https://pedagogie-nord.ac-lille.fr/wp-content/uploads/2024/02/00098_01_aynur-23-24-opera-de-lille.jpg
END:VEVENT
END:VCALENDAR