BEGIN:VCALENDAR
VERSION:2.0
PRODID:-//Pédagogie Nord - ECPv6.15.20//NONSGML v1.0//EN
CALSCALE:GREGORIAN
METHOD:PUBLISH
X-WR-CALNAME:Pédagogie Nord
X-ORIGINAL-URL:https://pedagogie-nord.ac-lille.fr
X-WR-CALDESC:Évènements pour Pédagogie Nord
REFRESH-INTERVAL;VALUE=DURATION:PT1H
X-Robots-Tag:noindex
X-PUBLISHED-TTL:PT1H
BEGIN:VTIMEZONE
TZID:Europe/Paris
BEGIN:DAYLIGHT
TZOFFSETFROM:+0100
TZOFFSETTO:+0200
TZNAME:CEST
DTSTART:20240331T010000
END:DAYLIGHT
BEGIN:STANDARD
TZOFFSETFROM:+0200
TZOFFSETTO:+0100
TZNAME:CET
DTSTART:20241027T010000
END:STANDARD
BEGIN:DAYLIGHT
TZOFFSETFROM:+0100
TZOFFSETTO:+0200
TZNAME:CEST
DTSTART:20250330T010000
END:DAYLIGHT
BEGIN:STANDARD
TZOFFSETFROM:+0200
TZOFFSETTO:+0100
TZNAME:CET
DTSTART:20251026T010000
END:STANDARD
BEGIN:DAYLIGHT
TZOFFSETFROM:+0100
TZOFFSETTO:+0200
TZNAME:CEST
DTSTART:20260329T010000
END:DAYLIGHT
BEGIN:STANDARD
TZOFFSETFROM:+0200
TZOFFSETTO:+0100
TZNAME:CET
DTSTART:20261025T010000
END:STANDARD
END:VTIMEZONE
BEGIN:VEVENT
DTSTART;VALUE=DATE:20250227
DTEND;VALUE=DATE:20250228
DTSTAMP:20260422T011749
CREATED:20250110T153838Z
LAST-MODIFIED:20250110T153838Z
UID:2841-1740614400-1740700799@pedagogie-nord.ac-lille.fr
SUMMARY:PEACE & LOBE - Centre André Malraux - Hazebrouck
DESCRIPTION:Collège-Lycée \nPeace & Lobe est un concert pédagogique destiné aux élèves\, combinant musique live\, prévention\, pédagogie et humour pour sensibiliser au respect de la santé auditive. Pendant une heure\, cinq artistes présentent les musiques du XXe siècle et les avancées technologiques associées. Ce projet est porté par de jeunes artistes de la scène musicale actuelle en région\, motivés par leur propre manque d’éducation à la santé auditive. En utilisant un langage accessible\, ils souhaitent transmettre un message sur les risques auditifs modernes\, comme l’écoute prolongée au casque\, sans culpabiliser le public. Leur objectif est d’encourager chacun à préserver le plaisir d’écoute tout en étant responsable. \n 
URL:https://pedagogie-nord.ac-lille.fr/evenement/peace-lobe-centre-andre-malraux-hazebrouck/
LOCATION:Centre André Malraux\, 4 rue du milieu\, Hazebrouck\, 59190
CATEGORIES:Musique
ATTACH;FMTTYPE=image/jpeg:https://pedagogie-nord.ac-lille.fr/wp-content/uploads/2025/01/peace-and-lobe.jpeg
END:VEVENT
END:VCALENDAR