BEGIN:VCALENDAR
VERSION:2.0
PRODID:-//Pédagogie Nord - ECPv6.15.20//NONSGML v1.0//EN
CALSCALE:GREGORIAN
METHOD:PUBLISH
X-ORIGINAL-URL:https://pedagogie-nord.ac-lille.fr
X-WR-CALDESC:Évènements pour Pédagogie Nord
REFRESH-INTERVAL;VALUE=DURATION:PT1H
X-Robots-Tag:noindex
X-PUBLISHED-TTL:PT1H
BEGIN:VTIMEZONE
TZID:Europe/Paris
BEGIN:DAYLIGHT
TZOFFSETFROM:+0100
TZOFFSETTO:+0200
TZNAME:CEST
DTSTART:20240331T010000
END:DAYLIGHT
BEGIN:STANDARD
TZOFFSETFROM:+0200
TZOFFSETTO:+0100
TZNAME:CET
DTSTART:20241027T010000
END:STANDARD
BEGIN:DAYLIGHT
TZOFFSETFROM:+0100
TZOFFSETTO:+0200
TZNAME:CEST
DTSTART:20250330T010000
END:DAYLIGHT
BEGIN:STANDARD
TZOFFSETFROM:+0200
TZOFFSETTO:+0100
TZNAME:CET
DTSTART:20251026T010000
END:STANDARD
BEGIN:DAYLIGHT
TZOFFSETFROM:+0100
TZOFFSETTO:+0200
TZNAME:CEST
DTSTART:20260329T010000
END:DAYLIGHT
BEGIN:STANDARD
TZOFFSETFROM:+0200
TZOFFSETTO:+0100
TZNAME:CET
DTSTART:20261025T010000
END:STANDARD
END:VTIMEZONE
BEGIN:VEVENT
DTSTART;VALUE=DATE:20250306
DTEND;VALUE=DATE:20250307
DTSTAMP:20260422T012045
CREATED:20250110T154113Z
LAST-MODIFIED:20250110T154113Z
UID:2844-1741219200-1741305599@pedagogie-nord.ac-lille.fr
SUMMARY:Allant vers - Sarah Lecarpentier - Centre André Malraux - Hazebrouck
DESCRIPTION:Allant vers est un spectacle de Poésie Actuelle Musicale\, à la croisée de la musique\, de la poésie et du théâtre. Au fil du spectacle on découvre l’enfant\, l’adolescente\, l’amoureuse\, la boxeuse de vie. Entre les morceaux\, Sarah partage avec le public l’amour littéraire qui l’anime : apprendre par coeur des proverbes. Ces phrases qui guident\, donnent une direction\, même quand on ne sait pas où on va. En dialogue avec les phrases musicales de Simon\, dans un décor simple\, petit écrin ou cabaret de poche\, ce rendez-vous est reflet de nos vies\, comme un bout de miroir qui nous transmet l’optimisme\, la liberté\, et la force de résistance qu’il faut pour rester sur notre propre chemin.\nAller vers soi-même en Allant vers…les autres ? \nÉlémentaire\, Collège\, Lycée
URL:https://pedagogie-nord.ac-lille.fr/evenement/allant-vers-sarah-lecarpentier-centre-andre-malraux-hazebrouck/
LOCATION:Centre André Malraux\, 4 rue du milieu\, Hazebrouck\, 59190
CATEGORIES:Littérature,Musique
ATTACH;FMTTYPE=image/png:https://pedagogie-nord.ac-lille.fr/wp-content/uploads/2025/01/cie-rêvages.png
END:VEVENT
END:VCALENDAR