BEGIN:VCALENDAR
VERSION:2.0
PRODID:-//Pédagogie Nord - ECPv6.15.20//NONSGML v1.0//EN
CALSCALE:GREGORIAN
METHOD:PUBLISH
X-WR-CALNAME:Pédagogie Nord
X-ORIGINAL-URL:https://pedagogie-nord.ac-lille.fr
X-WR-CALDESC:Évènements pour Pédagogie Nord
REFRESH-INTERVAL;VALUE=DURATION:PT1H
X-Robots-Tag:noindex
X-PUBLISHED-TTL:PT1H
BEGIN:VTIMEZONE
TZID:Europe/Paris
BEGIN:DAYLIGHT
TZOFFSETFROM:+0100
TZOFFSETTO:+0200
TZNAME:CEST
DTSTART:20250330T010000
END:DAYLIGHT
BEGIN:STANDARD
TZOFFSETFROM:+0200
TZOFFSETTO:+0100
TZNAME:CET
DTSTART:20251026T010000
END:STANDARD
BEGIN:DAYLIGHT
TZOFFSETFROM:+0100
TZOFFSETTO:+0200
TZNAME:CEST
DTSTART:20260329T010000
END:DAYLIGHT
BEGIN:STANDARD
TZOFFSETFROM:+0200
TZOFFSETTO:+0100
TZNAME:CET
DTSTART:20261025T010000
END:STANDARD
BEGIN:DAYLIGHT
TZOFFSETFROM:+0100
TZOFFSETTO:+0200
TZNAME:CEST
DTSTART:20270328T010000
END:DAYLIGHT
BEGIN:STANDARD
TZOFFSETFROM:+0200
TZOFFSETTO:+0100
TZNAME:CET
DTSTART:20271031T010000
END:STANDARD
END:VTIMEZONE
BEGIN:VEVENT
DTSTART;VALUE=DATE:20260109
DTEND;VALUE=DATE:20260110
DTSTAMP:20260421T094602
CREATED:20251006T132210Z
LAST-MODIFIED:20251006T132311Z
UID:3286-1767916800-1768003199@pedagogie-nord.ac-lille.fr
SUMMARY:D'amour de Thomas Lebrun - Le Gymnase Centre de Développement Chorégraphique National de Roubaix
DESCRIPTION:Et si on parlait d’amour ? Les chansons de cœur sont un répertoire infini pour Thomas Lebrun. Avec humour et émotion\, le chorégraphe met en scène un quatuor pris dans l’avalanche du sentiment amoureux et la diversité de son expression. Music-hall\, rock\, disco et tubes du moment accompagnent une partition dansée qui flirte avec le sensible\, le poétique et le cocasse. \n 
URL:https://pedagogie-nord.ac-lille.fr/evenement/damour-de-thomas-lebrun-le-gymnase-centre-de-developpement-choregraphique-national-de-roubaix/
LOCATION:Le gymnase – Centre de Développement Chorégraphique National\, 5 Rue du Général Chanzy\, Roubaix\, 59100
CATEGORIES:Danse,Musique
ATTACH;FMTTYPE=image/jpeg:https://pedagogie-nord.ac-lille.fr/wp-content/uploads/2025/10/damour-min-scaled-e1759756850290.jpg
END:VEVENT
END:VCALENDAR