BEGIN:VCALENDAR
VERSION:2.0
PRODID:-//Pédagogie Nord - ECPv6.15.20//NONSGML v1.0//EN
CALSCALE:GREGORIAN
METHOD:PUBLISH
X-ORIGINAL-URL:https://pedagogie-nord.ac-lille.fr
X-WR-CALDESC:Évènements pour Pédagogie Nord
REFRESH-INTERVAL;VALUE=DURATION:PT1H
X-Robots-Tag:noindex
X-PUBLISHED-TTL:PT1H
BEGIN:VTIMEZONE
TZID:Europe/Paris
BEGIN:DAYLIGHT
TZOFFSETFROM:+0100
TZOFFSETTO:+0200
TZNAME:CEST
DTSTART:20240331T010000
END:DAYLIGHT
BEGIN:STANDARD
TZOFFSETFROM:+0200
TZOFFSETTO:+0100
TZNAME:CET
DTSTART:20241027T010000
END:STANDARD
BEGIN:DAYLIGHT
TZOFFSETFROM:+0100
TZOFFSETTO:+0200
TZNAME:CEST
DTSTART:20250330T010000
END:DAYLIGHT
BEGIN:STANDARD
TZOFFSETFROM:+0200
TZOFFSETTO:+0100
TZNAME:CET
DTSTART:20251026T010000
END:STANDARD
BEGIN:DAYLIGHT
TZOFFSETFROM:+0100
TZOFFSETTO:+0200
TZNAME:CEST
DTSTART:20260329T010000
END:DAYLIGHT
BEGIN:STANDARD
TZOFFSETFROM:+0200
TZOFFSETTO:+0100
TZNAME:CET
DTSTART:20261025T010000
END:STANDARD
END:VTIMEZONE
BEGIN:VEVENT
DTSTART;VALUE=DATE:20250901
DTEND;VALUE=DATE:20260101
DTSTAMP:20260421T065735
CREATED:20251007T132237Z
LAST-MODIFIED:20251007T132237Z
UID:3367-1756684800-1767225599@pedagogie-nord.ac-lille.fr
SUMMARY:Exposition "Ils sont food ces romains !"- Forum antique de Bavay
DESCRIPTION:Qu’y a-t-il de plus délicieux que de découvrir l’Histoire par la gastronomie ?\nEmbarquez pour un voyage dans le temps à la découverte de l’héritage culinaire des Gaulois et des Romains\, dont les influences se retrouvent encore aujourd’hui dans nos assiettes. L’exposition « Ils sont Food ces Romains ! » vous invite à éveiller vos sens et à redécouvrir l’Histoire sous un angle inédit\, celui de l’alimentation.\nQu’elle soit ancrée dans le terroir local pour les Gaulois ou teintée d’exotisme venu des conquêtes pour les Romains\, vous découvrirez que la nourriture tenait déjà une place importante dans la vie quotidienne sous l’Antiquité.
URL:https://pedagogie-nord.ac-lille.fr/evenement/exposition-ils-sont-food-ces-romains-forum-antique-de-bavay/
LOCATION:Forum antique de Bavay\, 2 Allée Chanoine Henri Bievelet\, Bavay\, 0359731550\, 59570
CATEGORIES:Patrimoine
ATTACH;FMTTYPE=image/jpeg:https://pedagogie-nord.ac-lille.fr/wp-content/uploads/2025/10/expo-food.jpg
END:VEVENT
END:VCALENDAR