BEGIN:VCALENDAR
VERSION:2.0
PRODID:-//Pédagogie Nord - ECPv6.15.20//NONSGML v1.0//EN
CALSCALE:GREGORIAN
METHOD:PUBLISH
X-ORIGINAL-URL:https://pedagogie-nord.ac-lille.fr
X-WR-CALDESC:Évènements pour Pédagogie Nord
REFRESH-INTERVAL;VALUE=DURATION:PT1H
X-Robots-Tag:noindex
X-PUBLISHED-TTL:PT1H
BEGIN:VTIMEZONE
TZID:Europe/Paris
BEGIN:DAYLIGHT
TZOFFSETFROM:+0100
TZOFFSETTO:+0200
TZNAME:CEST
DTSTART:20230326T010000
END:DAYLIGHT
BEGIN:STANDARD
TZOFFSETFROM:+0200
TZOFFSETTO:+0100
TZNAME:CET
DTSTART:20231029T010000
END:STANDARD
BEGIN:DAYLIGHT
TZOFFSETFROM:+0100
TZOFFSETTO:+0200
TZNAME:CEST
DTSTART:20240331T010000
END:DAYLIGHT
BEGIN:STANDARD
TZOFFSETFROM:+0200
TZOFFSETTO:+0100
TZNAME:CET
DTSTART:20241027T010000
END:STANDARD
BEGIN:DAYLIGHT
TZOFFSETFROM:+0100
TZOFFSETTO:+0200
TZNAME:CEST
DTSTART:20250330T010000
END:DAYLIGHT
BEGIN:STANDARD
TZOFFSETFROM:+0200
TZOFFSETTO:+0100
TZNAME:CET
DTSTART:20251026T010000
END:STANDARD
END:VTIMEZONE
BEGIN:VEVENT
DTSTART;VALUE=DATE:20240916
DTEND;VALUE=DATE:20241214
DTSTAMP:20260423T081840
CREATED:20241104T140516Z
LAST-MODIFIED:20241104T151411Z
UID:2756-1726444800-1734134399@pedagogie-nord.ac-lille.fr
SUMMARY:Le Musée fait le mur ! Offre groupes hors les murs - Musée histoire naturelle - Lille
DESCRIPTION:Depuis le printemps 2024\, le Musée d’histoire naturelle de Lille a fermé ses portes pour des travaux de rénovation.\nPendant ce temps\, l’équipe du MHN reste présente auprès du public et a décidé de faire le mur en se déplaçant chez vous et venir à la rencontre des enfants dans leur classe ou établissement !\nLes fossiles\, les squelettes\, les insectes et d’autres thématiques sont proposées par les médiateurs et médiatrices du Musée sous forme d’ateliers pédagogiques apportés dans des malles contenant divers objets et spécimens… \nMusée d’histoire naturelle – Brochure offre groupes \n 
URL:https://pedagogie-nord.ac-lille.fr/evenement/le-musee-fait-le-mur-offre-groupes-hors-les-murs-musee-histoire-naturelle-lille/
LOCATION:Musée d’Histoire naturelle\, 23 rue Gosselet\, Lille\, 59000
CATEGORIES:Sciences
ATTACH;FMTTYPE=image/jpeg:https://pedagogie-nord.ac-lille.fr/wp-content/uploads/2024/11/Musee-histoire-naturelle-Lille-creer-ton-insecte.jpg
END:VEVENT
END:VCALENDAR