BEGIN:VCALENDAR
VERSION:2.0
PRODID:-//Pédagogie Nord - ECPv6.15.20//NONSGML v1.0//EN
CALSCALE:GREGORIAN
METHOD:PUBLISH
X-ORIGINAL-URL:https://pedagogie-nord.ac-lille.fr
X-WR-CALDESC:Évènements pour Pédagogie Nord
REFRESH-INTERVAL;VALUE=DURATION:PT1H
X-Robots-Tag:noindex
X-PUBLISHED-TTL:PT1H
BEGIN:VTIMEZONE
TZID:Europe/Paris
BEGIN:DAYLIGHT
TZOFFSETFROM:+0100
TZOFFSETTO:+0200
TZNAME:CEST
DTSTART:20230326T010000
END:DAYLIGHT
BEGIN:STANDARD
TZOFFSETFROM:+0200
TZOFFSETTO:+0100
TZNAME:CET
DTSTART:20231029T010000
END:STANDARD
BEGIN:DAYLIGHT
TZOFFSETFROM:+0100
TZOFFSETTO:+0200
TZNAME:CEST
DTSTART:20240331T010000
END:DAYLIGHT
BEGIN:STANDARD
TZOFFSETFROM:+0200
TZOFFSETTO:+0100
TZNAME:CET
DTSTART:20241027T010000
END:STANDARD
BEGIN:DAYLIGHT
TZOFFSETFROM:+0100
TZOFFSETTO:+0200
TZNAME:CEST
DTSTART:20250330T010000
END:DAYLIGHT
BEGIN:STANDARD
TZOFFSETFROM:+0200
TZOFFSETTO:+0100
TZNAME:CET
DTSTART:20251026T010000
END:STANDARD
END:VTIMEZONE
BEGIN:VEVENT
DTSTART;VALUE=DATE:20240127
DTEND;VALUE=DATE:20240325
DTSTAMP:20260423T231604
CREATED:20240122T092828Z
LAST-MODIFIED:20240125T095700Z
UID:2162-1706313600-1711324799@pedagogie-nord.ac-lille.fr
SUMMARY:Exposition Matériau [X]\, l'exposition composite - Le Labo - Cambrai
DESCRIPTION:De la matière brute au matériau formé\, l’Homme extrait\, manipule\, tisse\, fond\, martèle\, cisaille… afin d’obtenir des matériaux aux propriétés adéquates pour fabriquer des objets. Au cours de la visite\, les élèves découvrent les origines et les usages des matériaux\, et testent leurs propriétés. Ils sont invités à prendre conscience des problématiques environnementales et sociales issues de leur utilisation. Tout au long du parcours\, ils explorent le mode de conception d’un objet pour le regarder autrement.
URL:https://pedagogie-nord.ac-lille.fr/evenement/exposition-materiau-x-lexposition-composite/
LOCATION:Le Labo\, 2 rue Louis renard\, Cambrai
CATEGORIES:Arts visuels,Sciences
ATTACH;FMTTYPE=image/jpeg:https://pedagogie-nord.ac-lille.fr/wp-content/uploads/2024/01/00077_01_expo-matériaux.jpg
END:VEVENT
END:VCALENDAR