BEGIN:VCALENDAR
VERSION:2.0
PRODID:-//Pédagogie Nord - ECPv6.15.20//NONSGML v1.0//EN
CALSCALE:GREGORIAN
METHOD:PUBLISH
X-WR-CALNAME:Pédagogie Nord
X-ORIGINAL-URL:https://pedagogie-nord.ac-lille.fr
X-WR-CALDESC:Évènements pour Pédagogie Nord
REFRESH-INTERVAL;VALUE=DURATION:PT1H
X-Robots-Tag:noindex
X-PUBLISHED-TTL:PT1H
BEGIN:VTIMEZONE
TZID:Europe/Paris
BEGIN:DAYLIGHT
TZOFFSETFROM:+0100
TZOFFSETTO:+0200
TZNAME:CEST
DTSTART:20240331T010000
END:DAYLIGHT
BEGIN:STANDARD
TZOFFSETFROM:+0200
TZOFFSETTO:+0100
TZNAME:CET
DTSTART:20241027T010000
END:STANDARD
BEGIN:DAYLIGHT
TZOFFSETFROM:+0100
TZOFFSETTO:+0200
TZNAME:CEST
DTSTART:20250330T010000
END:DAYLIGHT
BEGIN:STANDARD
TZOFFSETFROM:+0200
TZOFFSETTO:+0100
TZNAME:CET
DTSTART:20251026T010000
END:STANDARD
BEGIN:DAYLIGHT
TZOFFSETFROM:+0100
TZOFFSETTO:+0200
TZNAME:CEST
DTSTART:20260329T010000
END:DAYLIGHT
BEGIN:STANDARD
TZOFFSETFROM:+0200
TZOFFSETTO:+0100
TZNAME:CET
DTSTART:20261025T010000
END:STANDARD
END:VTIMEZONE
BEGIN:VEVENT
DTSTART;VALUE=DATE:20250320
DTEND;VALUE=DATE:20250704
DTSTAMP:20260423T005804
CREATED:20250325T150427Z
LAST-MODIFIED:20250325T150427Z
UID:2935-1742428800-1751587199@pedagogie-nord.ac-lille.fr
SUMMARY:Le Musée d'histoire naturelle de Lille fait le mur : offre scolaire hors-les-murs
DESCRIPTION:Fermé pour travaux\, le Musée d’histoire naturelle se plie en quatre pour venir à la rencontre des élèves dans leur classe !\nPendant le chantier de rénovation et en attendant la réouverture\, les médiateurs et médiatrices du Musée interviennent dans les établissements scolaires.\nLes fossiles\, les squelettes\, les insectes et d’autres thématiques sont proposées sous forme d’ateliers pédagogiques apportés dans des malles contenant divers objets et spécimens\, ou même dans le cadre d’une visite virtuelle…
URL:https://pedagogie-nord.ac-lille.fr/evenement/le-musee-dhistoire-naturelle-de-lille-fait-le-mur-offre-scolaire-hors-les-murs/
CATEGORIES:Sciences
ATTACH;FMTTYPE=image/png:https://pedagogie-nord.ac-lille.fr/wp-content/uploads/2025/03/00207_01-Q8_00-mhn-comtrans-logos-flm-rvb-1.png
END:VEVENT
END:VCALENDAR