BEGIN:VCALENDAR
VERSION:2.0
PRODID:-//Pédagogie Nord - ECPv6.15.20//NONSGML v1.0//EN
CALSCALE:GREGORIAN
METHOD:PUBLISH
X-WR-CALNAME:Pédagogie Nord
X-ORIGINAL-URL:https://pedagogie-nord.ac-lille.fr
X-WR-CALDESC:Évènements pour Pédagogie Nord
REFRESH-INTERVAL;VALUE=DURATION:PT1H
X-Robots-Tag:noindex
X-PUBLISHED-TTL:PT1H
BEGIN:VTIMEZONE
TZID:Europe/Paris
BEGIN:DAYLIGHT
TZOFFSETFROM:+0100
TZOFFSETTO:+0200
TZNAME:CEST
DTSTART:20240331T010000
END:DAYLIGHT
BEGIN:STANDARD
TZOFFSETFROM:+0200
TZOFFSETTO:+0100
TZNAME:CET
DTSTART:20241027T010000
END:STANDARD
BEGIN:DAYLIGHT
TZOFFSETFROM:+0100
TZOFFSETTO:+0200
TZNAME:CEST
DTSTART:20250330T010000
END:DAYLIGHT
BEGIN:STANDARD
TZOFFSETFROM:+0200
TZOFFSETTO:+0100
TZNAME:CET
DTSTART:20251026T010000
END:STANDARD
BEGIN:DAYLIGHT
TZOFFSETFROM:+0100
TZOFFSETTO:+0200
TZNAME:CEST
DTSTART:20260329T010000
END:DAYLIGHT
BEGIN:STANDARD
TZOFFSETFROM:+0200
TZOFFSETTO:+0100
TZNAME:CET
DTSTART:20261025T010000
END:STANDARD
END:VTIMEZONE
BEGIN:VEVENT
DTSTART;VALUE=DATE:20250402
DTEND;VALUE=DATE:20250408
DTSTAMP:20260421T201736
CREATED:20250325T150106Z
LAST-MODIFIED:20250325T150106Z
UID:2932-1743552000-1744070399@pedagogie-nord.ac-lille.fr
SUMMARY:Festival Le p'tit monde #21 - Centre A. Malraux Hazebrouck
DESCRIPTION:Il est de retour ! Après une année sabbatique\, revoilà le festival jeune public ! Une édition plus ramassée\, certes\, mais conservant cet esprit qui l’anime depuis ses débuts : découverte\, ouverture\, émerveillement\, sans oublier une bonne dose d’espièglerie. Une façon de voir le monde qui est un peu celle de l’enfance et qu’il est fier de continuer à défendre dans une époque où il semble\, plus que jamais\, primordial de le faire. 21 ans et des airs d’éternel enfant : Le P’tit Monde est de retour. Qu’on se le dise ! \nPublic : Collège\, Lycée
URL:https://pedagogie-nord.ac-lille.fr/evenement/festival-le-ptit-monde-21-centre-a-malraux-hazebrouck/
LOCATION:Centre André Malraux\, 4 rue du milieu\, Hazebrouck\, 59190
CATEGORIES:Musique,Théâtre
ATTACH;FMTTYPE=image/png:https://pedagogie-nord.ac-lille.fr/wp-content/uploads/2025/03/00206_01-Q8_00-aff-lpm-25-min.png
END:VEVENT
BEGIN:VEVENT
DTSTART;VALUE=DATE:20250405
DTEND;VALUE=DATE:20250406
DTSTAMP:20260421T201737
CREATED:20250325T144914Z
LAST-MODIFIED:20250325T144914Z
UID:2919-1743811200-1743897599@pedagogie-nord.ac-lille.fr
SUMMARY:Minute Papillon - Centra A. Malraux Hazebrouck
DESCRIPTION:Dans un coin de forêt\, l’automne se termine doucement et tous les animaux préparent l’hibernation. Tous ? Non ! Sylvestre\, un jeune écureuil\, est déjà prêt ! Trop impatient\, il va précipiter l’arrivée de l’hiver et provoquer un tohu-bohu général. Une aventure où un loup chante les saisons\, une chenille cherche sa place et un jeu de cube se transforme pour nous emmener au cœur de la forêt. Une aventure d’objets\, poétique et musicale à voir dès 6 ans. \n 
URL:https://pedagogie-nord.ac-lille.fr/evenement/minute-papillon-centra-a-malraux-hazebrouck/
LOCATION:Centre André Malraux\, 4 rue du milieu\, Hazebrouck\, 59190
CATEGORIES:Théâtre
ATTACH;FMTTYPE=image/jpeg:https://pedagogie-nord.ac-lille.fr/wp-content/uploads/2025/03/00202_01-Q8_00-minute-papillon.jpg
END:VEVENT
END:VCALENDAR