BEGIN:VCALENDAR
VERSION:2.0
PRODID:-//Pédagogie Nord - ECPv6.15.20//NONSGML v1.0//EN
CALSCALE:GREGORIAN
METHOD:PUBLISH
X-ORIGINAL-URL:https://pedagogie-nord.ac-lille.fr
X-WR-CALDESC:Évènements pour Pédagogie Nord
REFRESH-INTERVAL;VALUE=DURATION:PT1H
X-Robots-Tag:noindex
X-PUBLISHED-TTL:PT1H
BEGIN:VTIMEZONE
TZID:Europe/Paris
BEGIN:DAYLIGHT
TZOFFSETFROM:+0100
TZOFFSETTO:+0200
TZNAME:CEST
DTSTART:20250330T010000
END:DAYLIGHT
BEGIN:STANDARD
TZOFFSETFROM:+0200
TZOFFSETTO:+0100
TZNAME:CET
DTSTART:20251026T010000
END:STANDARD
BEGIN:DAYLIGHT
TZOFFSETFROM:+0100
TZOFFSETTO:+0200
TZNAME:CEST
DTSTART:20260329T010000
END:DAYLIGHT
BEGIN:STANDARD
TZOFFSETFROM:+0200
TZOFFSETTO:+0100
TZNAME:CET
DTSTART:20261025T010000
END:STANDARD
BEGIN:DAYLIGHT
TZOFFSETFROM:+0100
TZOFFSETTO:+0200
TZNAME:CEST
DTSTART:20270328T010000
END:DAYLIGHT
BEGIN:STANDARD
TZOFFSETFROM:+0200
TZOFFSETTO:+0100
TZNAME:CET
DTSTART:20271031T010000
END:STANDARD
END:VTIMEZONE
BEGIN:VEVENT
DTSTART;VALUE=DATE:20260113
DTEND;VALUE=DATE:20260117
DTSTAMP:20260421T064732
CREATED:20260113T155450Z
LAST-MODIFIED:20260113T155450Z
UID:3544-1768262400-1768607999@pedagogie-nord.ac-lille.fr
SUMMARY:Spectacle "Casimir" - Le Grand Bleu - Lille
DESCRIPTION:Représentations scolaires : 13/01/26 à 10h – 15/01/26 à 14h30 – 16/01/26 à 10h \nTout le monde savait que le déménagement de Casimir et sa famille serait un événement\, mais personne ne pensait qu’il bouleverserait à ce point le village des lutins.\nPar une nuit étoilée (de projecteurs)\, Casimir et sa famille emménagent dans un village de lutins. Les habitant·e·s de ce tronc d’arbre douillet se réveillent avec cette surprenante nouvelle. De surprenante\, l’arrivée de ces nouveaux·elles voisin·e·s va devenir intrigante\, puis carrément intolérable. Alors quand la famille de Casimir finit par s’en aller\, chacun s’interroge sur les raisons de ce départ\, tout en connaissant parfaitement la réponse…\nTrois comédien·ne·s manipulent des figurines installées sur un grand village-tronc : il·elle·s leur prêtent leur voix\, leurs gesticulations\, et comme par magie on voit apparaître des humeurs très humaines sur ces minuscules marionnettes. Le théâtre d’objets de la Cie Arts & Couleurs offre à ce conte une mécanique artisanale millimétrée qui réalise l’exploit de susciter de la colère envers une bande de lutins !
URL:https://pedagogie-nord.ac-lille.fr/evenement/spectacle-casimir-le-grand-bleu-lille/
LOCATION:Le Grand Bleu\, 36 Avenue Marx Dormoy\, Lille
CATEGORIES:Théâtre
END:VEVENT
END:VCALENDAR