BEGIN:VCALENDAR
VERSION:2.0
PRODID:-//Pédagogie Nord - ECPv6.15.20//NONSGML v1.0//EN
CALSCALE:GREGORIAN
METHOD:PUBLISH
X-ORIGINAL-URL:https://pedagogie-nord.ac-lille.fr
X-WR-CALDESC:Évènements pour Pédagogie Nord
REFRESH-INTERVAL;VALUE=DURATION:PT1H
X-Robots-Tag:noindex
X-PUBLISHED-TTL:PT1H
BEGIN:VTIMEZONE
TZID:Europe/Paris
BEGIN:DAYLIGHT
TZOFFSETFROM:+0100
TZOFFSETTO:+0200
TZNAME:CEST
DTSTART:20250330T010000
END:DAYLIGHT
BEGIN:STANDARD
TZOFFSETFROM:+0200
TZOFFSETTO:+0100
TZNAME:CET
DTSTART:20251026T010000
END:STANDARD
BEGIN:DAYLIGHT
TZOFFSETFROM:+0100
TZOFFSETTO:+0200
TZNAME:CEST
DTSTART:20260329T010000
END:DAYLIGHT
BEGIN:STANDARD
TZOFFSETFROM:+0200
TZOFFSETTO:+0100
TZNAME:CET
DTSTART:20261025T010000
END:STANDARD
BEGIN:DAYLIGHT
TZOFFSETFROM:+0100
TZOFFSETTO:+0200
TZNAME:CEST
DTSTART:20270328T010000
END:DAYLIGHT
BEGIN:STANDARD
TZOFFSETFROM:+0200
TZOFFSETTO:+0100
TZNAME:CET
DTSTART:20271031T010000
END:STANDARD
END:VTIMEZONE
BEGIN:VEVENT
DTSTART;VALUE=DATE:20260122
DTEND;VALUE=DATE:20260124
DTSTAMP:20260421T064732
CREATED:20260113T155732Z
LAST-MODIFIED:20260113T155746Z
UID:3547-1769040000-1769212799@pedagogie-nord.ac-lille.fr
SUMMARY:Spectacle "Chère écharpe" - Le Grand Bleu - Lille
DESCRIPTION:Représentations scolaires : 22/01/26 à 10h – 23/01/26 à 10h \nUn beau jour\, il faut bien quitter le nid. C’est ce qu’apprennent Mam et sa fille Môm dans cette fable tricotée de douceur. \nQu’est ce que la naissance sinon une première séparation ? Avec Chère écharpe\, Sarah Carré explore les liens entre une mère et son enfant et les matérialise dans une longue écharpe de laine. Cette étoffe conçue par un personnage de mère\, Mam\, devient à la fois le lien indétricotable qui la lie à Môm\, sa fille\, en même temps qu’un chemin vers l’ailleurs. Le rôle d’une mère est de préparer son enfant à entrer dans le monde\, mais quelle liberté faut-il·elle lui laisser ? \nLe public assiste à tout le processus\, de la fusion à la fission\, entre Mam et Môm. Du nid protecteur jusqu’au dehors émancipateur\, dans un décor ludique à géométrie variable\, cette fable raconte un bout de ce que nous sommes tou·te·s\, des évadé·e·s. \nPlus d’informations sur : https://www.legrandbleu.com/evenement/chere-echarpe-2/
URL:https://pedagogie-nord.ac-lille.fr/evenement/spectacle-chere-echarpe-le-grand-bleu-lille/
LOCATION:Le Grand Bleu\, 36 Avenue Marx Dormoy\, Lille
CATEGORIES:Théâtre
END:VEVENT
END:VCALENDAR